BEGIN:VCALENDAR
VERSION:2.0
PRODID:-//wp-events-plugin.com//7.2.3.1//EN
TZID:Europe/Paris
X-WR-TIMEZONE:Europe/Paris
BEGIN:VEVENT
UID:1151@mysterislive.com
DTSTART;TZID=Europe/Paris:20250623T000000
DTEND;TZID=Europe/Paris:20250623T235900
DTSTAMP:20250628T220752Z
URL:http://www.mysterislive.com/events/absence-4-2025-06-23/
SUMMARY:Pause
DESCRIPTION:\nMa petite pause qui devait se terminer le 19 mai prochain va 
 être prolongée pour une durée que je ne connais pas... 😭\n\n\n\n\n\n
 \n\n\n\n\n\nSuite à un petit problème d'ordre technique\, je suis dans l
 'impossibilité d'assurer les lives Twitch ainsi que les montages/diffusio
 ns de vidéos Youtube.En effet\, ma carte-mère et l'alimentation ont rend
 u l'âme dans la douleur et les flammes (oui avec beaucoup de fumée)... 
 🔥Je n'ai pas pu vérifier l'état du CPU mais il y a des risques qu'il 
 soit également touché...\n\n\n\n\n\n\n\nSi je ne suis plus en capacité 
 technique d'accomplir les lives\, de jouer et monter/diffuser mes ptites v
 idéos\, je peux tout de même faire quelques petits graphismes (comme cel
 ui ci-dessus) et diffuser de temps en temps des portraits de monstre sur I
 nstagram.\n\n\n\n\n\n\n\n\n\n\n\n\n\n\n\n\n\n\n\n\n\nJe vais avoir besoin 
 de temps :-D'une part pour rassembler le budget nécessaire à la réparat
 ion de tout ça mais également pour réfléchir à une nouvelle organisat
 ion... -D'autre part pour me réorganiser. Le temps ne se divise pas et il
  faut pouvoir cumuler\, la vie familiale\, sociale\, professionnelle et en
 fin le temps réserver au plaisir et passion (dont fait partie le projet M
 ysterisLive).\n\n\n\nJe n'ai pas encore de date retour\, peut être début
  d'été\, peut être à la rentrée de septembre... ce qui est sur c'est 
 que : Je reviendrai !\n\n\n\nEn attendant je resterai présent sur mes ré
 seaux sociaux\, alors n'hésitez pas à faire un coucou !\n\n\n\nA bientô
 t\n\n\n
ATTACH;FMTTYPE=image/jpeg:https://i0.wp.com/www.mysterislive.com/wp-conten
 t/uploads/2023/03/vacances-1.png?fit=250%2C250
CATEGORIES:Vacances
LOCATION:Zombie Land\, 2 rue du Zombie\, Zombie Land\, Région de la mort\,
  France
X-APPLE-STRUCTURED-LOCATION;VALUE=URI;X-ADDRESS=2 rue du Zombie\, Zombie La
 nd\, Région de la mort\, France;X-APPLE-RADIUS=100;X-TITLE=Zombie Land:ge
 o:0,0
END:VEVENT
BEGIN:VTIMEZONE
TZID:Europe/Paris
X-LIC-LOCATION:Europe/Paris
BEGIN:DAYLIGHT
DTSTART:20250330T030000
TZOFFSETFROM:+0100
TZOFFSETTO:+0200
TZNAME:CEST
END:DAYLIGHT
END:VTIMEZONE
END:VCALENDAR